BEGIN:VCALENDAR
VERSION:2.0
PRODID:-//LCM - ECPv6.10.1.1//NONSGML v1.0//EN
CALSCALE:GREGORIAN
METHOD:PUBLISH
X-WR-CALNAME:LCM
X-ORIGINAL-URL:https://lcm-content.web-email.at
X-WR-CALDESC:Veranstaltungen für LCM
REFRESH-INTERVAL;VALUE=DURATION:PT1H
X-Robots-Tag:noindex
X-PUBLISHED-TTL:PT1H
BEGIN:VTIMEZONE
TZID:Europe/Paris
BEGIN:DAYLIGHT
TZOFFSETFROM:+0100
TZOFFSETTO:+0200
TZNAME:CEST
DTSTART:20240331T010000
END:DAYLIGHT
BEGIN:STANDARD
TZOFFSETFROM:+0200
TZOFFSETTO:+0100
TZNAME:CET
DTSTART:20241027T010000
END:STANDARD
END:VTIMEZONE
BEGIN:VEVENT
DTSTART;TZID=Europe/Paris:20240701T090000
DTEND;TZID=Europe/Paris:20240701T180000
DTSTAMP:20260422T004228
CREATED:20240625T090918Z
LAST-MODIFIED:20240625T091121Z
UID:44658-1719824400-1719856800@lcm-content.web-email.at
SUMMARY:Leistungselektronik - von Materialien zu Systemen und Anwendungen
DESCRIPTION:Die Leistungselektronik steuert den Leistungsfluss und wandelt Energie bedarfsgerecht für unterschiedlichste elektrische Geräte um – von Ladegeräten für Mobiltelefone und Beleuchtung in Gebäuden über Batterien und Antriebe in der Elektromobilität bis zu elektrischen Netzen und der Netzeinspeisung erneuerbarer Energien. \nBayern Innovativ und der Cluster Leistungselektronik/ECPE e.V. adressieren deshalb umfassend alle zwei Jahre aktuelle technologische Trends und Anwendungen der Leistungselektronik. \nAls besonderes Highlight erwarten Sie am Nachmittag Führungen durch die Prüflabore von AVL Software and Functions GmbH und Maschinenfabrik Reinhausen GmbH. \nBesuchen Sie uns bei unserem Stand! \nShare this information
URL:https://lcm-content.web-email.at/event/leistungselektronik-von-materialien-zu-systemen-und-anwendungen/
LOCATION:TechBase Regensburg\, Franz-Mayer-Straße 1\, Regensburg\, 93053\, Deutschland
CATEGORIES:Entwicklung
ATTACH;FMTTYPE=image/jpeg:https://lcm-content.web-email.at/wp-content/uploads/2024/06/Leistungselektronik_Energieeffizienz_Bayern_Innovativ.jpg
END:VEVENT
END:VCALENDAR