BEGIN:VCALENDAR
VERSION:2.0
PRODID:-//LCM - ECPv6.10.1.1//NONSGML v1.0//EN
CALSCALE:GREGORIAN
METHOD:PUBLISH
X-WR-CALNAME:LCM
X-ORIGINAL-URL:https://lcm-content.web-email.at
X-WR-CALDESC:Veranstaltungen für LCM
REFRESH-INTERVAL;VALUE=DURATION:PT1H
X-Robots-Tag:noindex
X-PUBLISHED-TTL:PT1H
BEGIN:VTIMEZONE
TZID:Europe/Paris
BEGIN:DAYLIGHT
TZOFFSETFROM:+0100
TZOFFSETTO:+0200
TZNAME:CEST
DTSTART:20240331T010000
END:DAYLIGHT
BEGIN:STANDARD
TZOFFSETFROM:+0200
TZOFFSETTO:+0100
TZNAME:CET
DTSTART:20241027T010000
END:STANDARD
END:VTIMEZONE
BEGIN:VEVENT
DTSTART;TZID=Europe/Paris:20240523T080000
DTEND;TZID=Europe/Paris:20240523T173000
DTSTAMP:20260422T035353
CREATED:20240515T140816Z
LAST-MODIFIED:20240515T141315Z
UID:44380-1716451200-1716485400@lcm-content.web-email.at
SUMMARY:Innovative Wege zum effizienteren Betrieb von Maschinen
DESCRIPTION:Energieeinsparung durch Schmierstoffe\, Condition Monitoring und Predictive Maintenance durch Sensoren \nMit steigenden Energiepreisen in letzter Zeit wird es für Unternehmen zunehmend wichtig nach Bereichen zu suchen\, in denen sie den Energieverbrauch senken können. Schmierstoffe werden dabei oft übersehen. Bei Anwendungen wie Getrieben und Kompressoren\, die nahezu in allen Branchen zu finden sind\, können sie jedoch eine wichtige Rolle bei der Steigerung der Energieeffizienz spielen. Sie erfahren grundlegende Mechanismen\, die die Effizienz eines Antriebes beeinflussen und es werden entsprechende praktische Beispiele und Lösungen vorgestellt. Abgerundet werden die Vorträge durch neueste Möglichkeiten im Bereich des Condition Monitorings bzw. Predictive Maintenance.\nWeiters werden Anwendungsbeispiele gezeigt\, wie tribologische Untersuchungen\, geeignete Sensoren und applikationsspezifische Modelle zur Lebensdauerverlängerung beitragen. Fokus ist auch die Steigerung der Anlagenzuverlässigkeit und Verfügbarkeit sowie die Planbarkeit von Wartungsmaßnahmen im Hinblick auf den Schmierstoff unter spezifischen Einsatzbedingungen. \nShare this information
URL:https://lcm-content.web-email.at/event/innovative-wege-zum-effizienteren-betrieb-von-maschinen/
LOCATION:WINZER KREMS eG\, Sandgrube 13\, Krems an der Donau\, 3500\, Österreich
CATEGORIES:Digitalisierung,Produktion,Sensorik
ATTACH;FMTTYPE=image/png:https://lcm-content.web-email.at/wp-content/uploads/2024/05/Bild_TIP_Innovative_Wege_zum_effizienteren_Betrieb_von_Maschinen.png
END:VEVENT
BEGIN:VEVENT
DTSTART;TZID=Europe/Paris:20240524T170000
DTEND;TZID=Europe/Paris:20240524T230000
DTSTAMP:20260422T035353
CREATED:20231221T083010Z
LAST-MODIFIED:20240205T101203Z
UID:42191-1716570000-1716591600@lcm-content.web-email.at
SUMMARY:Die Lange Nacht der Forschung
DESCRIPTION:Die Lange Nacht der Forschung findet alle zwei Jahre quer durch Österreich statt. In allen neun Bundesländern können Sie bei freiem Eintritt Wissenschaft und Forschung hautnah erleben\, sich mit Forschenden austauschen und entdecken\, was sonst oft verborgen bleibt: Spannendes\, Überraschendes\, Erstaunliches! \nShare this information
URL:https://lcm-content.web-email.at/event/die-lange-nacht-der-forschung/
LOCATION:Linz Center of Mechatronics GmbH\, Altenberger Straße 66\, Linz\, Oberösterreich\, 4040\, Österreich
ATTACH;FMTTYPE=image/jpeg:https://lcm-content.web-email.at/wp-content/uploads/2023/12/05_LNF24_SUJET_Quadrat_mitLogo_Datum.jpg
END:VEVENT
BEGIN:VEVENT
DTSTART;TZID=Europe/Paris:20240528T090000
DTEND;TZID=Europe/Paris:20240528T130000
DTSTAMP:20260422T035353
CREATED:20240524T070535Z
LAST-MODIFIED:20240524T070535Z
UID:44548-1716886800-1716901200@lcm-content.web-email.at
SUMMARY:Digitale Industrie Verständlich Erklärt: Datenaustausch
DESCRIPTION:In Kooperation mit der Sparte Industrie der Wirtschaftskammer OÖ und der Industriellenvereinigung Oberösterreich\, veranstaltet der European Digital Innovation Hubs „AI5production“ am 28.05.2024 ein Training mit umfangreichen Informationen zum Themenschwerpunkt „Datenaustausch“. \nDer firmenübergreifende Datenaustausch mit KundInnen oder LieferantInnen gilt als entscheidender Schritt für die digitale Produktion. Er bildet nicht nur die Grundlage\, sondern auch das Rückgrat für Effizienzsteigerungen in komplexen Wertschöpfungsnetzwerken. Dieser Austausch von Informationen ermöglicht es Unternehmen\, ihre Prozesse zu optimieren und ihre Leistungsfähigkeit zu steigern\, indem sie auf Echtzeitdaten zugreifen und sie nutzen\, um schnellere und fundiertere Entscheidungen treffen zu können. \nEs wird Ihnen nicht nur theoretisches Wissen vermittelt\, auch gewährt Ihnen die Firma Fill praktische Einblicke aus erster Hand\, welche auf realen Herausforderungen und erfolgreichen Lösungsansätzen basieren. Diese Erfahrungsschätze werden dazu beitragen\, Ihnen einen umfassenden Einblick in bewährte Verfahren und innovative Ansätze beim unternehmensübergreifenden Datenaustausch zu bieten. \nUnser Kollege DI Roman Rampsel beleuchtet die „Mehrwertmöglichkeiten mit digitalen Diensten“. \nProgramm und Anmeldung \nWir freuen uns auf Ihre Teilnahme! \nShare this information
URL:https://lcm-content.web-email.at/event/digitale-industrie-verstaendlich-erklaert-datenaustausch/
LOCATION:FILL Future Dome\, Fillstraße\, Gurten\, 4942\, Österreich
CATEGORIES:Digitalisierung,Transformation
ATTACH;FMTTYPE=image/png:https://lcm-content.web-email.at/wp-content/uploads/2024/05/DIVE_Datenaustausch-Training.png
END:VEVENT
END:VCALENDAR