BEGIN:VCALENDAR
VERSION:2.0
PRODID:-//LCM - ECPv6.10.1.1//NONSGML v1.0//EN
CALSCALE:GREGORIAN
METHOD:PUBLISH
X-ORIGINAL-URL:https://lcm-content.web-email.at
X-WR-CALDESC:Veranstaltungen für LCM
REFRESH-INTERVAL;VALUE=DURATION:PT1H
X-Robots-Tag:noindex
X-PUBLISHED-TTL:PT1H
BEGIN:VTIMEZONE
TZID:Europe/Paris
BEGIN:DAYLIGHT
TZOFFSETFROM:+0100
TZOFFSETTO:+0200
TZNAME:CEST
DTSTART:20240331T010000
END:DAYLIGHT
BEGIN:STANDARD
TZOFFSETFROM:+0200
TZOFFSETTO:+0100
TZNAME:CET
DTSTART:20241027T010000
END:STANDARD
END:VTIMEZONE
BEGIN:VEVENT
DTSTART;TZID=Europe/Paris:20240308T083000
DTEND;TZID=Europe/Paris:20240308T140000
DTSTAMP:20260422T065013
CREATED:20240124T091124Z
LAST-MODIFIED:20240208T135912Z
UID:42293-1709886600-1709906400@lcm-content.web-email.at
SUMMARY:VERSCHOBEN! Fehler-Ursachenanalyse im Maschinenbau und in industriellen Prozessen
DESCRIPTION:Ob im Maschinenbau\, bei der mechatronischen Produktentwicklung oder in industriellen Fertigungs- und Produktionsprozessen: Das unerwartete Auftreten von Fehlern\, Qualitätsmängeln oder Schadensfällen stellt Unternehmen vor kurzfristige und oft dringliche Herausforderungen. Im Rahmen dieser Veranstaltung wird anhand charakteristischer Beispiele aus Themenbereichen rund um Strukturmechanik/Festigkeit\, Schwingungen und Verschleiß gezeigt\, wie Fehler und Ursachen auf systematische Weise durch Messungen\, Versuche sowie Simulation identifiziert\, behoben oder überhaupt im Vorhinein vermieden werden können.  \nDas Veranstaltungsformat wird interaktiv gestaltet und bietet ausreichend Raum für Fragen\, Vertiefung und gemeinsame sowie individuelle Diskussion nach Wunsch und Bedarf der Teilnehmer:innen. Nach den Vorträgen findet ein Firmenrundgang bei Pöttinger Landtechnik GmbH statt\, bei dem die Teilnehmer:innen Einblicke in die praktische Anwendung der besprochenen Konzepte und Technologien erhalten. \nAGENDA \n\n\n08:30 bis 09:00 Uhr\nEintreffen\n\n\n09:00 bis 10:30 Uhr\nFehler-Ursachenanalyse im Maschinenbau und industriellen Prozessen & Diskussion konkreter Themenstellungen\nMarkus Schörgenhumer / Peter Kollegger\n\n\nab 10:45 Uhr\nFirmenrundgang bei Pöttinger Landtechnik GmbH mit anschließendem Ausklang/Networking\n\n\n \nVORTRAGENDE\nPeter Kollegger | Ingenieurbüro Kollegger | www.problemloesung.at\nMarkus Schörgenhumer | Linz Center of Mechatronics GmbH | lcm-content.web-email.at\n \nKOSTEN UND ANMELDUNG\nDie Teilnahme an der Veranstaltung ist kostenlos. Eine Anmeldung ist jedoch dennoch erforderlich.\nInteressierte können sich per E-Mail an office@lcm.at für die Veranstaltung anmelden.\n\nAnmelden per E-Mail \nShare this information
URL:https://lcm-content.web-email.at/event/fehler-ursachenanalyse-im-maschinenbau-und-in-industriellen-prozessen-2/
LOCATION:Pöttinger Landtechnik GmbH\, Industriegelände 1\, Grieskirchen\, Oberösterreich\, 4710\, Österreich
ATTACH;FMTTYPE=image/png:https://lcm-content.web-email.at/wp-content/uploads/2023/01/Bild_Systematische_Fehlerursachenanalyse_Auslegung_Prozessoptimierung_Shutterstock.png
END:VEVENT
BEGIN:VEVENT
DTSTART;VALUE=DATE:20240320
DTEND;VALUE=DATE:20240322
DTSTAMP:20260422T065013
CREATED:20240315T084729Z
LAST-MODIFIED:20240315T084928Z
UID:43395-1710892800-1711065599@lcm-content.web-email.at
SUMMARY:Coiltech Deutschland 2024
DESCRIPTION:💡 LCM ist Entwicklungsdienstleister für die Optimierung der Antriebe der Zukunft im High-Performance-Bereich. \n🎯 Optimierung\, die über die elektromagetische Berechnung hinausgehen (Multiphysics\, AC-Verluste\, Rotorfestigkeit\, Leistungselektronik\, NVH) \n📍 Besuchen Sie uns in Halle 3 am Stand F 31! \nLCM\, Ihr zuverlässiger Partner für optimale high-performance Antriebe! \nShare this information
URL:https://lcm-content.web-email.at/event/coiltech-deutschland-2024/
LOCATION:Augsburg\, Augsburg\, Deutschland
CATEGORIES:Entwicklung,Produktion,Simulation
ATTACH;FMTTYPE=image/png:https://lcm-content.web-email.at/wp-content/uploads/2024/03/Motor_small.png
END:VEVENT
END:VCALENDAR