BEGIN:VCALENDAR
VERSION:2.0
PRODID:-//LCM - ECPv6.10.1.1//NONSGML v1.0//EN
CALSCALE:GREGORIAN
METHOD:PUBLISH
X-ORIGINAL-URL:https://lcm-content.web-email.at
X-WR-CALDESC:Veranstaltungen für LCM
REFRESH-INTERVAL;VALUE=DURATION:PT1H
X-Robots-Tag:noindex
X-PUBLISHED-TTL:PT1H
BEGIN:VTIMEZONE
TZID:Europe/Paris
BEGIN:DAYLIGHT
TZOFFSETFROM:+0100
TZOFFSETTO:+0200
TZNAME:CEST
DTSTART:20240331T010000
END:DAYLIGHT
BEGIN:STANDARD
TZOFFSETFROM:+0200
TZOFFSETTO:+0100
TZNAME:CET
DTSTART:20241027T010000
END:STANDARD
END:VTIMEZONE
BEGIN:VEVENT
DTSTART;TZID=Europe/Paris:20240130T130000
DTEND;TZID=Europe/Paris:20240130T173000
DTSTAMP:20260422T100857
CREATED:20231221T130803Z
LAST-MODIFIED:20240124T082608Z
UID:42212-1706619600-1706635800@lcm-content.web-email.at
SUMMARY:Fehler-Ursachenanalyse im Maschinenbau
DESCRIPTION:Ob im Maschinenbau\, bei der mechatronischen Produktentwicklung oder in industriellen Fertigungs- und Produktionsprozessen: Das unerwartete Auftreten von Fehlern\, Qualitätsmängeln oder Schadensfällen stellt Unternehmen vor kurzfristige und oft dringliche Herausforderungen. Im Rahmen dieser Veranstaltung wird anhand charakteristischer Beispiele aus Themenbereichen rund um Strukturmechanik/Festigkeit\, Schwingungen und Verschleißgezeigt\, wie Fehler und Ursachen auf systematische Weisedurch Messungen\, Versuche sowie Simulation identifiziert\, behoben\, oder überhaupt im Vorhinein vermieden werden können. Das Veranstaltungsformat wird interaktiv gestaltet und bietet ausreichend Raum für Fragen\, Vertiefung und gemeinsame sowie individuelle Diskussion nach Wunsch und Bedarf der Teilnehmer:innen. \nAGENDA \n13:00 bis 13.30 Uhr – Eintreffen \n13.30 Uhr – Fehler-Ursachenanalyse im Maschinenbau und industriellen Prozessen & Diskussion konkreter Themenstellungen\nMarkus Schörgenhumer / Peter Kollegger\n15.30 Uhr – Innovative Ansätze zur Schadens- und Verschleißvorhersage\nanschließend Ausklang/Networking\nVORTRAGENDE \nPeter Kollegger | Ingenieurbüro Kollegger | www.problemloesung.at\n Markus Schörgenhumer | Linz Center of Mechatronics GmbH | lcm-content.web-email.at\nWeitere Infos und Anmeldung\nShare this information
URL:https://lcm-content.web-email.at/event/fehler-ursachenanalyse-im-maschinenbau-und-in-industriellen-prozessen-diskussion-konkreter-themenstellungen/
LOCATION:Heuberger Campus\, Lagergasse 151\, Graz\, Steiermark\, 8020\, Österreich
CATEGORIES:Produktion
ATTACH;FMTTYPE=image/png:https://lcm-content.web-email.at/wp-content/uploads/2023/01/Bild_Systematische_Fehlerursachenanalyse_Auslegung_Prozessoptimierung_Shutterstock.png
END:VEVENT
END:VCALENDAR