BEGIN:VCALENDAR
VERSION:2.0
PRODID:-//LCM - ECPv6.10.1.1//NONSGML v1.0//EN
CALSCALE:GREGORIAN
METHOD:PUBLISH
X-ORIGINAL-URL:https://lcm-content.web-email.at
X-WR-CALDESC:Veranstaltungen für LCM
REFRESH-INTERVAL;VALUE=DURATION:PT1H
X-Robots-Tag:noindex
X-PUBLISHED-TTL:PT1H
BEGIN:VTIMEZONE
TZID:Europe/Paris
BEGIN:DAYLIGHT
TZOFFSETFROM:+0100
TZOFFSETTO:+0200
TZNAME:CEST
DTSTART:20230326T010000
END:DAYLIGHT
BEGIN:STANDARD
TZOFFSETFROM:+0200
TZOFFSETTO:+0100
TZNAME:CET
DTSTART:20231029T010000
END:STANDARD
END:VTIMEZONE
BEGIN:VEVENT
DTSTART;TZID=Europe/Paris:20231108T080000
DTEND;TZID=Europe/Paris:20231108T170000
DTSTAMP:20260422T131805
CREATED:20230925T132235Z
LAST-MODIFIED:20230926T104302Z
UID:40031-1699430400-1699462800@lcm-content.web-email.at
SUMMARY:FutureConvent Gmunden
DESCRIPTION:Share this information
URL:https://lcm-content.web-email.at/event/futureconvent-gmunden/
LOCATION:Toscana Congress Gmunden
ATTACH;FMTTYPE=image/png:https://lcm-content.web-email.at/wp-content/uploads/2023/05/Karriere_EB_Banner_f1.png
END:VEVENT
BEGIN:VEVENT
DTSTART;TZID=Europe/Paris:20231113T153000
DTEND;TZID=Europe/Paris:20231113T180000
DTSTAMP:20260422T131805
CREATED:20231108T132132Z
LAST-MODIFIED:20231108T132132Z
UID:41630-1699889400-1699898400@lcm-content.web-email.at
SUMMARY:Herbstgespräch Arbeitsmarkt: KI und Arbeitsmarkt – ein Blick auf den Standort OÖ
DESCRIPTION:Kann Künstliche Intelligenz dazu beitragen\, den Arbeitskräftebedarf zu decken und Menschen den Zugang zu Arbeit zu erleichtern? Kann KI dort einspringen\, wo Menschen fehlen werden\, oder wird KI Menschen zunehmend aus dem Arbeitsprozess verdrängen? Wie steht es tatsächlich um die Leistungsfähigkeit und Anwendbarkeit von KI? \nDas neue Gesprächsformat widmet sich jenseits der Tagespolitik den drängenden Fragen der Zeit und den standortrelevanten Aspekten einer sich permanent verändernden Arbeitswelt. \nKaum ein Tag vergeht\, ohne dass Publikationen oder Zeitungsmeldungen zu diesem Thema erscheinen. Vermeintliche Ängste werden in Umfragen beziffert. Regulierungen werden diskutiert und ChatGPT gehypt. Doch was steckt wirklich dahinter? \nFreuen Sie sich auf einen Realitätscheck und diskutieren Sie mit Top KI-Expert:innen aus der oberösterreichischen Forschungslandschaft und Spitzenvertreter:innen der Arbeitsmarktpolitik. \nImpulse und Diskussion: \n– Markus Achleitner\, Wirtschafts-Landesrat\n– Iris Schmidt\, Landesgeschäftsführerin Arbeitsmarktservice OÖ\n– Markus Manz\, Geschäftsführer Software Competence Center Hagenberg GmbH\n– Johann Hoffelner\, Wissenschaftlicher Geschäftsführer Linz Center of Mechatronics GmbH\n– Moderation: Conny Dürnberger \nAblauf: \n15.30 – 16.00 Uhr | Ankommen und Registrierung im Hörsaal\n16.00 – 18.00 Uhr | Begrüßung; Kurzimpulse der Speaker; Moderierte Diskussion unter Einbindung des Publikums\nab 18.00 Uhr | Ausklang \nWeitere Infos und Anmeldung\nFoto credit: iStock-1206796363_MTC_ipopba \nShare this information
URL:https://lcm-content.web-email.at/event/herbstgespraech-arbeitsmarkt-ki-und-arbeitsmarkt-ein-blick-auf-den-standort-ooe/
LOCATION:Tabakfabrik\, Linz\, Peter-Behrens-Platz 8-9\, Linz\, 4020\, Österreich
CATEGORIES:Digitalisierung,Karriere
ATTACH;FMTTYPE=image/jpeg:https://lcm-content.web-email.at/wp-content/uploads/2023/11/Bild_VA_KI_Arbeitsmarkt_iStock-1206796363_MTC_ipopba.jpg
END:VEVENT
BEGIN:VEVENT
DTSTART;TZID=Europe/Paris:20231121T083000
DTEND;TZID=Europe/Paris:20231122T143000
DTSTAMP:20260422T131805
CREATED:20231107T133701Z
LAST-MODIFIED:20231108T073117Z
UID:41558-1700555400-1700663400@lcm-content.web-email.at
SUMMARY:Mechathon: Noise and Vibration Harshness
DESCRIPTION:Thema: Noise and Vibration Harshness — NVH\nWo: LCM\nWann: 21.11.23 – 22.11.23 \nGeschlossene Veranstaltung. \nShare this information
URL:https://lcm-content.web-email.at/event/mechathon-noise-and-vibration-harshness/
LOCATION:Linz Center of Mechatronics GmbH\, Altenberger Straße 66\, Linz\, Oberösterreich\, 4040\, Österreich
ATTACH;FMTTYPE=image/png:https://lcm-content.web-email.at/wp-content/uploads/2021/08/produktfoto_sound_scanner_p132_sevenbel.png
END:VEVENT
BEGIN:VEVENT
DTSTART;TZID=Europe/Paris:20231129T093000
DTEND;TZID=Europe/Paris:20231129T160000
DTSTAMP:20260422T131805
CREATED:20230925T095643Z
LAST-MODIFIED:20230925T095819Z
UID:40017-1701250200-1701273600@lcm-content.web-email.at
SUMMARY:JKU Karrieretag 2023
DESCRIPTION:Share this information
URL:https://lcm-content.web-email.at/event/jku-karrieretag-2023/
LOCATION:JKU Keplergebäude\, Altenberger Str. 69\, Linz\, 4040\, Österreich
CATEGORIES:Karriere
ATTACH;FMTTYPE=image/png:https://lcm-content.web-email.at/wp-content/uploads/2023/05/Karriere_EB_Banner_f1.png
END:VEVENT
END:VCALENDAR