BEGIN:VCALENDAR
VERSION:2.0
PRODID:-//LCM - ECPv6.10.1.1//NONSGML v1.0//EN
CALSCALE:GREGORIAN
METHOD:PUBLISH
X-ORIGINAL-URL:https://lcm-content.web-email.at
X-WR-CALDESC:Veranstaltungen für LCM
REFRESH-INTERVAL;VALUE=DURATION:PT1H
X-Robots-Tag:noindex
X-PUBLISHED-TTL:PT1H
BEGIN:VTIMEZONE
TZID:Europe/Paris
BEGIN:DAYLIGHT
TZOFFSETFROM:+0100
TZOFFSETTO:+0200
TZNAME:CEST
DTSTART:20230326T010000
END:DAYLIGHT
BEGIN:STANDARD
TZOFFSETFROM:+0200
TZOFFSETTO:+0100
TZNAME:CET
DTSTART:20231029T010000
END:STANDARD
END:VTIMEZONE
BEGIN:VEVENT
DTSTART;TZID=Europe/Paris:20230922T083000
DTEND;TZID=Europe/Paris:20230922T183000
DTSTAMP:20260422T162938
CREATED:20230913T080410Z
LAST-MODIFIED:20230914T111105Z
UID:39790-1695371400-1695407400@lcm-content.web-email.at
SUMMARY:EMC/JKU-Kongress „KLIMA / MOBILITÄT / ENERGIE“
DESCRIPTION:Interessante Vorträge zu drei der derzeit bewegenden Themen gepaart mit Infoständen erwarten uns.\nMarcus Wadsak leitet mit „KLIMAWANDEL – Fake oder Fiktion“ die Vortragsreihe ein.\nMit nachhaltiger MOBILITÄT / Verkehrswende beschäftigen wir uns am Vormittag und mit der\nENERGIEWENDE am Nachmittag. \nLINK ZUM PROGRAMM \nIn den Pausen\, vor\, nach und auch während der Vorträge können Sie sich/könnt ihr euch bei den\nInfoständen unserer Aussteller informieren und wertvolle Kontakte knüpfen. \nShare this information
URL:https://lcm-content.web-email.at/event/emc-jku-kongress-klima-mobilitaet-energie/
LOCATION:JKU Linz\, Kepler Hall\, Altenberger Straße 69\, 4040 Linz
ATTACH;FMTTYPE=image/jpeg:https://lcm-content.web-email.at/wp-content/uploads/2023/09/JKU_EMC-Kongress_Header_c_Bruno_Klomfar.jpg
END:VEVENT
BEGIN:VEVENT
DTSTART;TZID=Europe/Paris:20230927T130000
DTEND;TZID=Europe/Paris:20230927T171500
DTSTAMP:20260422T162938
CREATED:20230725T081907Z
LAST-MODIFIED:20230725T083432Z
UID:38572-1695819600-1695834900@lcm-content.web-email.at
SUMMARY:Modellierung & Simulation 2023: Zukunftsperspektiven in Konstruktion und Simulation
DESCRIPTION:„Modellierung & Simulation 2023: Zukunftsperspektiven in Konstruktion und Simulation“ ist eine einzigartige Veranstaltung\, die sich auf die Entdeckung und Diskussion der neuesten Fortschritte in der Simulationstechnologie konzentriert.  \nExperten aus der Branche teilen ihre Erfahrungen und Einblicke in Bereichen wie 3DEXPERIENCE\, Konstruktion und Simulation und die industrielle Anwendung von Abaqus Simulation. Die Teilnehmer haben außerdem die Möglichkeit\, sich aktiv in Workshops einzubringen\, um aktuelle Fragen und zukünftige Trends zu diskutieren.  \nDer Tag endet mit einer Networking-Veranstaltung\, die eine ausgezeichnete Gelegenheit bietet\, Kontakte zu knüpfen und neue Ideen auszutauschen. \nShare this information
URL:https://lcm-content.web-email.at/event/modellierung-simulation-2023-zukunftsperspektiven-in-konstruktion-und-simulation/
LOCATION:MCE GmbH\, Franzosenhausweg 25\, Linz\, 4030\, Österreich
CATEGORIES:Digitalisierung,Entwicklung,Produktion,Simulation
ATTACH;FMTTYPE=image/jpeg:https://lcm-content.web-email.at/wp-content/uploads/2023/07/Bild_VA_Modellierung_Simulation_2023_09.jpg
END:VEVENT
END:VCALENDAR