BEGIN:VCALENDAR
VERSION:2.0
PRODID:-//LCM - ECPv6.10.1.1//NONSGML v1.0//EN
CALSCALE:GREGORIAN
METHOD:PUBLISH
X-WR-CALNAME:LCM
X-ORIGINAL-URL:https://lcm-content.web-email.at
X-WR-CALDESC:Veranstaltungen für LCM
REFRESH-INTERVAL;VALUE=DURATION:PT1H
X-Robots-Tag:noindex
X-PUBLISHED-TTL:PT1H
BEGIN:VTIMEZONE
TZID:Europe/Paris
BEGIN:DAYLIGHT
TZOFFSETFROM:+0100
TZOFFSETTO:+0200
TZNAME:CEST
DTSTART:20230326T010000
END:DAYLIGHT
BEGIN:STANDARD
TZOFFSETFROM:+0200
TZOFFSETTO:+0100
TZNAME:CET
DTSTART:20231029T010000
END:STANDARD
END:VTIMEZONE
BEGIN:VEVENT
DTSTART;TZID=Europe/Paris:20230704T150000
DTEND;TZID=Europe/Paris:20230704T180000
DTSTAMP:20260422T193016
CREATED:20230525T070301Z
LAST-MODIFIED:20230619T092236Z
UID:37469-1688482800-1688493600@lcm-content.web-email.at
SUMMARY:Energiewende: Hydraulische Antriebstechnik im Wandel?
DESCRIPTION:Wir laden am 4. Juli 2023 ab 15:00 Uhr herzlich zu uns in den Science Park I\, Altenbergerstraße 66\, 4040 Linz\, um die Bedeutung der Hydraulik innerhalb der Energiewende genauer zu beleuchten. \nAn diesem Nachmittag erfahren Sie\, welche Beiträge die hydraulische Antriebstechnik zum Gelingen der Energiewende liefern kann. Nach spannenden Vorträgen zu diesem Thema haben wir ausreichend Gelegenheit uns in Gesprächen über diese drängende Frage auszutauschen: \n\nWelche Weichen können/müssen wir stellen\, damit Hydraulik in und nach dieser Transformation ihre Stärken einbringen kann?\nWas brauchen die Anwender dieser Antriebstechnologie?\n\nVorträge von LCM und Lupold Hydraulik\, sowie eine Keynote von Robert Finzel (Wacker Neuson) über Challenges und Trends bieten die ideale Gelegenheit\, sich wieder einmal zu treffen\, über diese Thematik mehr zu erfahren und bei Speis und Trank zu netzwerken. \nWir freuen uns mit Ihnen einen Blick in die Zukunft zu werfen! \nHier können Sie sich bis 29.06.2023 anmelden: \nZur Anmeldung\nShare this information
URL:https://lcm-content.web-email.at/event/energiewende-hydraulische-antriebstechnik-im-wandel/
LOCATION:Linz Center of Mechatronics GmbH\, Altenberger Straße 66\, Linz\, Oberösterreich\, 4040\, Österreich
CATEGORIES:Digitalisierung,Entwicklung,Produktion
ATTACH;FMTTYPE=image/jpeg:https://lcm-content.web-email.at/wp-content/uploads/2023/05/Bild_Hydraulik_Wandel-scaled.jpg
END:VEVENT
END:VCALENDAR