BEGIN:VCALENDAR
VERSION:2.0
PRODID:-//LCM - ECPv6.10.1.1//NONSGML v1.0//EN
CALSCALE:GREGORIAN
METHOD:PUBLISH
X-ORIGINAL-URL:https://lcm-content.web-email.at
X-WR-CALDESC:Veranstaltungen für LCM
REFRESH-INTERVAL;VALUE=DURATION:PT1H
X-Robots-Tag:noindex
X-PUBLISHED-TTL:PT1H
BEGIN:VTIMEZONE
TZID:Europe/Paris
BEGIN:DAYLIGHT
TZOFFSETFROM:+0100
TZOFFSETTO:+0200
TZNAME:CEST
DTSTART:20230326T010000
END:DAYLIGHT
BEGIN:STANDARD
TZOFFSETFROM:+0200
TZOFFSETTO:+0100
TZNAME:CET
DTSTART:20231029T010000
END:STANDARD
END:VTIMEZONE
BEGIN:VEVENT
DTSTART;TZID=Europe/Paris:20230504T090000
DTEND;TZID=Europe/Paris:20230504T150000
DTSTAMP:20260422T222852
CREATED:20221216T093726Z
LAST-MODIFIED:20230328T103208Z
UID:34207-1683190800-1683212400@lcm-content.web-email.at
SUMMARY:Produkt- und Prozessoptimierung durch model-based Design und datenbasierte Analyse
DESCRIPTION:In einer gemeinsamen Veranstaltung am 4. Mai 2023 in Linz zeigen wir (LCM) gemeinsam mit MathWorks und dem Mechatronik-Cluster\, wie durch model-based Design und datenbasierte Analyse Industrieunternehmen bei der Produkt- und Prozessoptimierung unterstützt werden können. \nMehr Infos und Anmeldung: https://lcm-content.web-email.at/lcm_mathworks_mc/ \nDabei wird anhand von ausgewählten Beispielen aus der industriellen Praxis gezeigt\, wie Simulation und datenbasierte Analyse erfolgreich für Projekte eingesetzt werden kann. \nVeranstaltungsort:                            Wann: \nScience Park I                                 4. Mai 2023\nAltenberger Straße 66                   09:00 Uhr bis 15:00 Uhr\n4040 Linz     \n\n \n\n\nDie Veranstaltung ist kostenlos!\n\nVerpflegungsform: Buffet\, Kaffee\, Getränke\nParktickets für die Tiefgarage werden ausgegeben.\n\n  \n           \n\nShare this information
URL:https://lcm-content.web-email.at/event/workshop-virtuelle-inbetriebnahme-model-based-design/
LOCATION:Science Park 1 Linz
CATEGORIES:Robotik
ATTACH;FMTTYPE=image/jpeg:https://lcm-content.web-email.at/wp-content/uploads/2023/03/mahtworks_laptop_header.jpg
END:VEVENT
BEGIN:VEVENT
DTSTART;VALUE=DATE:20230509
DTEND;VALUE=DATE:20230512
DTSTAMP:20260422T222852
CREATED:20230307T085726Z
LAST-MODIFIED:20230420T102007Z
UID:35738-1683590400-1683849599@lcm-content.web-email.at
SUMMARY:Sensor + Test
DESCRIPTION:Share this information
URL:https://lcm-content.web-email.at/event/sensor-test/
LOCATION:Messezentrum Nürnberg
CATEGORIES:Digitalisierung,Sensorik
ATTACH;FMTTYPE=image/png:https://lcm-content.web-email.at/wp-content/uploads/2023/04/SensorTest_2023.png
END:VEVENT
BEGIN:VEVENT
DTSTART;TZID=Europe/Paris:20230515T120000
DTEND;TZID=Europe/Paris:20230515T171500
DTSTAMP:20260422T222852
CREATED:20230505T071316Z
LAST-MODIFIED:20230505T071445Z
UID:37278-1684152000-1684170900@lcm-content.web-email.at
SUMMARY:Modellbasierte Entwicklung
DESCRIPTION:Mit modellbasierter Entwicklung zum energieeffizienten Digitalhydrauliksystem \nErfahren Sie mehr über „Modellbasierte Entwicklung“ bei der gleichnamigen Veranstaltung am 15.05.2023 im Zentrum für Produktion\, Robotik & Automatisierung des Management Center Innsbruck (MCI). \nIm Praxisteil erklären unsere Kollegen Helmut Kogler und Bernd Winkler wie Sie für energieeffiziente Digitalhydrauliksysteme Maschinenregelungen effizient entwickeln und auf speicherprogrammierbaren Steuerungen implementieren können. \nInfos und Anmeldung bis 10. Mai 2023:\nhttps://research.mci.edu/de/pra/events-trainings/events-vorschau/2017-modellbasierte-entwicklung-mathworks \nShare this information
URL:https://lcm-content.web-email.at/event/modellbasierte-entwicklung/
LOCATION:MCI | Die Unternehmerische Hochschule\, Maximilianstraße 2\, Innsbruck\, Tirol\, 6020\, Österreich
CATEGORIES:Entwicklung
ATTACH;FMTTYPE=image/jpeg:https://lcm-content.web-email.at/wp-content/uploads/2023/05/Bild_Digitalhydraulik_Bernd_Winkler_LCM-scaled.jpg
END:VEVENT
BEGIN:VEVENT
DTSTART;TZID=Europe/Paris:20230525T090000
DTEND;TZID=Europe/Paris:20230525T170000
DTSTAMP:20260422T222852
CREATED:20230420T100702Z
LAST-MODIFIED:20230420T100843Z
UID:36905-1685005200-1685034000@lcm-content.web-email.at
SUMMARY:Digitalisierung? Echt Jetzt! – EDIH Austria Business Talks 2023
DESCRIPTION:Am 25. Mai 2023 finden in Linz die 1. EDIH AUSTRIA BUSINESS TALKS statt. Die vier österreichischen European Digital Innovation Hubs (EDIHs) bieten Unternehmen und Organisationen eine umfassende\, vorwiegend kostenlose Unterstützung bei den Herausforderungen der digitalen Transformation an. Unter dem Titel “DIGITALISIERUNG? ECHT JETZT!“ werden praxisorientierte Fallbeispiele präsentiert und mit spannenden Impulsvorträgen und Expert:innen-Talks ergänzt. Die Veranstaltung eröffnet die einmalige Chance das Leistungsspektrum und Serviceportfolio aller vier österreichischen EDIHs AI5production\, Crowd in Motion\, Applied CPS und Innovate „hands-on“ kennenzulernen und so das Potential für das eigene Unternehmen bzw. für die eigene Organisation optimal ausloten zu können. Ergreifen Sie die Gelegenheit zu persönlichen\, bilateralen Gesprächen mit allen Akteur:innen der EDIHs um Ihre Digitalisierungsvorhaben voranzutreiben\, sowie die Möglichkeit sich branchenübergreifend mit „Gleichgesinnten“ auszutauschen. \nDie Veranstaltung richtet sich an IT-Verantwortliche\, Entscheider:innen und alle Interessierte\, die einen Blick auf das Digitalisierungsserviceangebot der EDIHs werfen möchten. Der Bogen der spannt sich von der Industrie\, über die Land- und Forstwirtschaft bis zu Tourismus und den öffentlichen Sektor. \nProgramm \n▪ 09:00 – 09:30 Meet & Greet\n▪ 09:30 – 10:00 Eröffnung: mit Ansprache durch Bundesminister Mag. Dr. Martin Kocher und Sektionschef Mag. Florian Frauscher und weiteren Ehrengästen\n▪ 10:00 – 10:30 Keynote-Speech: “Zusammenarbeit Mensch & Technologie – Grenzen und Chancen der Digitalisierung”\n▪ 10:30 – 11:15 EDIH Austria Vorstellung: Das EDIH Quartett – unsere Leistungen im Überblick\n▪ 11:30-12:15 Workshop: interaktive Diskussion “World Cafe” – Digitalisierung? Echt jetzt! Erwartungen\, Hinweise und Fragen \n▪ 12:15 – 13:30  Mittagspause & Networking \n▪ 13:30 – 15:30 Business Talks: Theorie & Praxis – Beispiele aus Industrie\, Wirtschaft und Tourismus\n▪ 15:30 – 16:30 Podiumsdiskussion: Digitalisierung? JETZT WIRKLICH!\n▪ 16:30 – 17:00 Abschluss der Veranstaltung & Vorstellung der Ausstellungsstände\n▪ ab 17:10 Social Networking \nANMELDUNG: https://www.dih-innovate.at/event/digitalisierung-echt-jetzt/ \nVeranstaltungsort \nLinz Tabakfabrik Lösehalle\nPeter-Behrens-Platz 8\n4020 Linz \nShare this information
URL:https://lcm-content.web-email.at/event/digitalisierung-echt-jetzt-edih-austria-business-talks-2023/
LOCATION:Tabakfabrik\, Linz\, Peter-Behrens-Platz 8-9\, Linz\, 4020\, Österreich
CATEGORIES:Digitalisierung,Produktion
ATTACH;FMTTYPE=image/png:https://lcm-content.web-email.at/wp-content/uploads/2023/04/EDIH-BUSINESS-TALKS-2023.png
END:VEVENT
END:VCALENDAR