BEGIN:VCALENDAR
VERSION:2.0
PRODID:-//LCM - ECPv6.10.1.1//NONSGML v1.0//EN
CALSCALE:GREGORIAN
METHOD:PUBLISH
X-ORIGINAL-URL:https://lcm-content.web-email.at
X-WR-CALDESC:Veranstaltungen für LCM
REFRESH-INTERVAL;VALUE=DURATION:PT1H
X-Robots-Tag:noindex
X-PUBLISHED-TTL:PT1H
BEGIN:VTIMEZONE
TZID:Europe/Paris
BEGIN:DAYLIGHT
TZOFFSETFROM:+0100
TZOFFSETTO:+0200
TZNAME:CEST
DTSTART:20230326T010000
END:DAYLIGHT
BEGIN:STANDARD
TZOFFSETFROM:+0200
TZOFFSETTO:+0100
TZNAME:CET
DTSTART:20231029T010000
END:STANDARD
END:VTIMEZONE
BEGIN:VEVENT
DTSTART;TZID=Europe/Paris:20230308T140000
DTEND;TZID=Europe/Paris:20230308T170000
DTSTAMP:20260423T013424
CREATED:20221214T085704Z
LAST-MODIFIED:20230525T070416Z
UID:34103-1678284000-1678294800@lcm-content.web-email.at
SUMMARY:AUSGEBUCHT! Retrofit (WKNÖ)
DESCRIPTION:Die Automatisierung von bestehenden Anlagen bzw. Maschinen wird im Hinblick auf die Digitalisierung und die damit erforderliche Datenerfassung bei vielen Gewerbe- und Industriebetriebe ein immer wichtigeres Thema. Warum bewährte Maschinen austauschen und Produktionsabläufe unterbrechen? \nErfahren Sie in dieser Veranstaltung\, wie Sie Ihre Maschinen ganz einfach intelligent machen können\, um mit den gewonnenen Daten mehr Output\, weniger Störungen oder bessere Qualität zu produzieren. \nIn einem theoretischen Teil erklären Ihnen Experten was es braucht um bestehende Maschinen Industrie4.0 fit zu machen und in einem praktischen Teil in der Berufsschule werden die vorgestellten Technologien in Echtzeit vorgeführt. \nRetrofit spart hohe Kosten für neue Maschinen und Produktionsanlagen und schont zusätzlich die Umwelt durch den Entfall der Entsorgung. \nProgramm \n14:00 – 14:15 Uhr Begrüßung – Moderation – Helmut Kahrer\, WKNÖ Technologie- und InnovationsPartner\n14:15 – 14:35 Uhr Die intelligente Kupplung – Marcel Flicker\, R+W Antriebselemente GmbH\n14:35 – 14:55 Uhr Digitalisierung von Bestandsanlagen – ein Praxischeck – Leander Hörmann\, LCM\n14:55 – 15:15 Uhr Zustandsüberwachung und Störungsvorhersage mittels Ultraschall und künstlicher Intelligenz – Markus Loinig\, Senzoro GmbH\n15:15 – 15:30 Uhr Pause\n15:30 – 15:45 Uhr Predictive Quality and Maintenance in der Kunststoff Spritzgussindustrie – AISEMO GmbH\n15:45 – 17:00 Uhr Praktische Demo in der Landesberufsschule\nab 17:00 Uhr Vernetzung – Fragen – Austausch am kalten Buffet \nVeranstalter\nTIP \nVeranstaltungsort\nWKNÖ – Bezirksstelle Amstetten \, Leopold-Maderthaner-Platz 1 \, 3300 Amstetten \nDie Teilnahme an der Veranstaltung ist kostenlos. Es ist nur eine begrenzte Teilnehmerzahl möglich. \nDie Anmeldebestätigung erhalten Sie unmittelbar nach Anmeldung\, eine Erinnerung mit dem Zufahrtsplan erhalten Sie kurz vor der Veranstaltung. \nZUR ANMELDUNG (WKNOE Portal)\nAnmeldeschluss: 06.03.2023\, 16:00 Uhr. \nShare this information
URL:https://lcm-content.web-email.at/event/retrofit-wknoe/
LOCATION:WKNÖ – Bezirksstelle Amstetten\, Leopold-Maderthaner-Platz 1\, Amstetten\, NÖ\, 3300
CATEGORIES:Digitalisierung,Produktion,Sensorik
ATTACH;FMTTYPE=image/png:https://lcm-content.web-email.at/wp-content/uploads/2022/12/Bild_Retrofit_Veranstaltung-2.png
END:VEVENT
END:VCALENDAR