BEGIN:VCALENDAR
VERSION:2.0
PRODID:-//LCM - ECPv6.10.1.1//NONSGML v1.0//EN
CALSCALE:GREGORIAN
METHOD:PUBLISH
X-WR-CALNAME:LCM
X-ORIGINAL-URL:https://lcm-content.web-email.at
X-WR-CALDESC:Veranstaltungen für LCM
REFRESH-INTERVAL;VALUE=DURATION:PT1H
X-Robots-Tag:noindex
X-PUBLISHED-TTL:PT1H
BEGIN:VTIMEZONE
TZID:Europe/Paris
BEGIN:DAYLIGHT
TZOFFSETFROM:+0100
TZOFFSETTO:+0200
TZNAME:CEST
DTSTART:20220327T010000
END:DAYLIGHT
BEGIN:STANDARD
TZOFFSETFROM:+0200
TZOFFSETTO:+0100
TZNAME:CET
DTSTART:20221030T010000
END:STANDARD
END:VTIMEZONE
BEGIN:VEVENT
DTSTART;TZID=Europe/Paris:20220608T130000
DTEND;TZID=Europe/Paris:20220608T220000
DTSTAMP:20260423T152850
CREATED:20220426T085415Z
LAST-MODIFIED:20220517T120103Z
UID:30784-1654693200-1654725600@lcm-content.web-email.at
SUMMARY:Forum Maschinenbau: Digital Thread
DESCRIPTION:Digital Thread – ein roter Faden zur Verbesserung von Engineering- und Fertigungsprozessen \nShare this information
URL:https://lcm-content.web-email.at/event/forum-maschinenbau-digital-thread/
LOCATION:Eplan Software & Service GmbH\, Betriebsgebiet Nord 47\, 3300 Ardagger Stift\, Ardagger Stift\, 3300\, Österreich
ATTACH;FMTTYPE=image/png:https://lcm-content.web-email.at/wp-content/uploads/2022/04/Screenshot_Forum_Maschinenbau_2022.png
END:VEVENT
BEGIN:VEVENT
DTSTART;VALUE=DATE:20220620
DTEND;VALUE=DATE:20220621
DTSTAMP:20260423T152850
CREATED:20220517T120828Z
LAST-MODIFIED:20220523T133507Z
UID:31034-1655683200-1655769599@lcm-content.web-email.at
SUMMARY:LCM Seminar "Mechanische Schwingungen"
DESCRIPTION:Von Schwingungsdämpfung bis Condition Monitoring: Anhand von anschaulichen Praxisbeispielen mechanische Schwingungen und Lärm dämpfen\, verstehen\, messen\, vermeiden\, nutzen und erzeugen. \nDie Anmeldung steht für alle offen. Anmeldeschluss: 08.06.2022 \nINFOS & ANMELDUNG \nShare this information
URL:https://lcm-content.web-email.at/event/lcm-seminar-mechanische-schwingungen/
LOCATION:Linz Center of Mechatronics GmbH\, Altenberger Straße 66\, Linz\, Oberösterreich\, 4040\, Österreich
ATTACH;FMTTYPE=image/png:https://lcm-content.web-email.at/wp-content/uploads/2022/05/LCM_Seminare_Bild_Vkal_01_Schwingungen.png
END:VEVENT
BEGIN:VEVENT
DTSTART;VALUE=DATE:20220621
DTEND;VALUE=DATE:20220625
DTSTAMP:20260423T152850
CREATED:20220303T080706Z
LAST-MODIFIED:20220517T095906Z
UID:30044-1655769600-1656115199@lcm-content.web-email.at
SUMMARY:Automatica 2022 München
DESCRIPTION:Share this information
URL:https://lcm-content.web-email.at/event/automatica-2022-muenchen/
LOCATION:München
ATTACH;FMTTYPE=image/jpeg:https://lcm-content.web-email.at/wp-content/uploads/2022/03/Logo_automatica_logo_cropped_600.jpg
END:VEVENT
END:VCALENDAR