BEGIN:VCALENDAR
VERSION:2.0
PRODID:-//LCM - ECPv6.10.1.1//NONSGML v1.0//EN
CALSCALE:GREGORIAN
METHOD:PUBLISH
X-ORIGINAL-URL:https://lcm-content.web-email.at
X-WR-CALDESC:Veranstaltungen für LCM
REFRESH-INTERVAL;VALUE=DURATION:PT1H
X-Robots-Tag:noindex
X-PUBLISHED-TTL:PT1H
BEGIN:VTIMEZONE
TZID:Europe/Paris
BEGIN:DAYLIGHT
TZOFFSETFROM:+0100
TZOFFSETTO:+0200
TZNAME:CEST
DTSTART:20220327T010000
END:DAYLIGHT
BEGIN:STANDARD
TZOFFSETFROM:+0200
TZOFFSETTO:+0100
TZNAME:CET
DTSTART:20221030T010000
END:STANDARD
END:VTIMEZONE
BEGIN:VEVENT
DTSTART;TZID=Europe/Paris:20220405T140000
DTEND;TZID=Europe/Paris:20220405T160000
DTSTAMP:20260423T184141
CREATED:20220318T084337Z
LAST-MODIFIED:20230118T082008Z
UID:30240-1649167200-1649174400@lcm-content.web-email.at
SUMMARY:Digitale Produktentwicklung - Einfach und schnell zum Prototypen
DESCRIPTION:Veranstaltung am 05. April 2022\, 14:00 bis 16:00 Uhr\, WKO Amstetten\nMit digitaler Produktentwicklung “Einfach und schnell zum optimalen Prototypen” – unter diesem Motto kann man sich am 05. April 2022 von 14:00 bis 16:00 Uhr in der Bezirksstelle der WKO Amstetten informieren. Die Veranstaltung wird von der WKO NÖ\, LCM\, Umdasch (TRIVION) und dem TÜV Austria veranstaltet. \nDank digitaler Prototyping-Lösungen können Prototypen schnell und kostengünsti in physische Projekte umgesetzt werden. Diese Technologien ermöglicht es Unternehmen Ihre Produkte schneller auf den Markt zu bringen bzw. die Anzahl der Prototypen zu reduzieren. Erfahren Sie in dieser Veranstaltung mehr über den Workflow vom digitalen Prototypen\, 3D Druck\, bis hin zur virtuellen Zertifizierung. \nDigitale Produktentwicklung am 05. April 2022 von 14:00 bis 16:00 Uhr\nBezirksstelle Amstetten\nLeopold-Maderthaner-Platz 1\n3300 Amstetten \n  \nAUSGEBUCHT – weitere Termine angedacht! Wir halten Sie auf dem Laufenden.\nFür weitere mögliche Termine ANMELDUNGEN bitte an tip.mostviertel@wknoe.at oder 02742/85116604 \nShare this information
URL:https://lcm-content.web-email.at/event/digitale-produktentwicklung-einfach-und-schnell-zum-prototypen/
LOCATION:WKO Amstetten\, Leopold-Maderthaner-Platz 2\, Amstetten\, 3300\, Österreich
CATEGORIES:Digitalisierung,Produktion
END:VEVENT
END:VCALENDAR