BEGIN:VCALENDAR
VERSION:2.0
PRODID:-//LCM - ECPv6.10.1.1//NONSGML v1.0//EN
CALSCALE:GREGORIAN
METHOD:PUBLISH
X-WR-CALNAME:LCM
X-ORIGINAL-URL:https://lcm-content.web-email.at
X-WR-CALDESC:Veranstaltungen für LCM
REFRESH-INTERVAL;VALUE=DURATION:PT1H
X-Robots-Tag:noindex
X-PUBLISHED-TTL:PT1H
BEGIN:VTIMEZONE
TZID:Europe/Paris
BEGIN:DAYLIGHT
TZOFFSETFROM:+0100
TZOFFSETTO:+0200
TZNAME:CEST
DTSTART:20210328T010000
END:DAYLIGHT
BEGIN:STANDARD
TZOFFSETFROM:+0200
TZOFFSETTO:+0100
TZNAME:CET
DTSTART:20211031T010000
END:STANDARD
END:VTIMEZONE
BEGIN:VEVENT
DTSTART;TZID=Europe/Paris:20210311T080000
DTEND;TZID=Europe/Paris:20210312T170000
DTSTAMP:20260424T125754
CREATED:20210223T122021Z
LAST-MODIFIED:20210223T122921Z
UID:23244-1615449600-1615568400@lcm-content.web-email.at
SUMMARY:The Factory of Tomorrow
DESCRIPTION:Die WKO Veranstaltung „The factory of Tomorrow“ ist ein virtuelles 2-Tages Event: \n\nweitere Infos: https://machinery2021.b2match.io/\n\n  \n  \n  \nShare this information
URL:https://lcm-content.web-email.at/event/the-factory-of-tomorrow/
LOCATION:Niederösterreich
END:VEVENT
END:VCALENDAR