BEGIN:VCALENDAR
VERSION:2.0
PRODID:-//LCM - ECPv6.10.1.1//NONSGML v1.0//EN
CALSCALE:GREGORIAN
METHOD:PUBLISH
X-ORIGINAL-URL:https://lcm-content.web-email.at
X-WR-CALDESC:Veranstaltungen für LCM
REFRESH-INTERVAL;VALUE=DURATION:PT1H
X-Robots-Tag:noindex
X-PUBLISHED-TTL:PT1H
BEGIN:VTIMEZONE
TZID:Europe/Paris
BEGIN:DAYLIGHT
TZOFFSETFROM:+0100
TZOFFSETTO:+0200
TZNAME:CEST
DTSTART:20200329T010000
END:DAYLIGHT
BEGIN:STANDARD
TZOFFSETFROM:+0200
TZOFFSETTO:+0100
TZNAME:CET
DTSTART:20201025T010000
END:STANDARD
END:VTIMEZONE
BEGIN:VEVENT
DTSTART;TZID=Europe/Paris:20201202T130000
DTEND;TZID=Europe/Paris:20201202T143000
DTSTAMP:20260424T172507
CREATED:20201112T102733Z
LAST-MODIFIED:20201112T102802Z
UID:20938-1606914000-1606919400@lcm-content.web-email.at
SUMMARY:Digital Retrofit Guide
DESCRIPTION:Experteninput „Digital Retrofit Guide – Chancen und Potentiale“ – Information und Vorstellung des Retrofitting-Leitfadens des Linz Center of Mechatronics | DI Dr. Leander Bernd Hörmann\, BSc (Teamleader IIot\, Area Sensors & Communication\, Linz Center of Mechatronics GmH)  \nShare this information
URL:https://lcm-content.web-email.at/event/digital-retrofit-guide/
LOCATION:virtuell
CATEGORIES:Digitalisierung,Produktion
END:VEVENT
BEGIN:VEVENT
DTSTART;TZID=Europe/Paris:20201203T090000
DTEND;TZID=Europe/Paris:20201203T100000
DTSTAMP:20260424T172507
CREATED:20201127T135323Z
LAST-MODIFIED:20201127T135932Z
UID:20969-1606986000-1606989600@lcm-content.web-email.at
SUMMARY:automotive.2020 - Zukünftige Antriebsstrangkonzepte für Nutzfahrzeuge und Traktoren
DESCRIPTION:Gebühren: Teilnahme kostenlos\, Anmeldung notwendig.  \nAnmeldeschluss: 02.12.2020 \nShare this information
URL:https://lcm-content.web-email.at/event/automotive-2020-zukuenftige-antriebsstrangkonzepte-fuer-nutzfahrzeuge-und-traktoren/
LOCATION:Niederösterreich
END:VEVENT
BEGIN:VEVENT
DTSTART;VALUE=DATE:20201208
DTEND;VALUE=DATE:20201210
DTSTAMP:20260424T172507
CREATED:20201120T084616Z
LAST-MODIFIED:20201120T084616Z
UID:20948-1607385600-1607558399@lcm-content.web-email.at
SUMMARY:Electric Drives Production Conference (E|DPC) 2020
DESCRIPTION:Share this information
URL:https://lcm-content.web-email.at/event/electric-drives-production-conference-edpc-2020/
LOCATION:virtuell
CATEGORIES:Forum
END:VEVENT
END:VCALENDAR