BEGIN:VCALENDAR
VERSION:2.0
PRODID:-//LCM - ECPv6.10.1.1//NONSGML v1.0//EN
CALSCALE:GREGORIAN
METHOD:PUBLISH
X-WR-CALNAME:LCM
X-ORIGINAL-URL:https://lcm-content.web-email.at
X-WR-CALDESC:Veranstaltungen für LCM
REFRESH-INTERVAL;VALUE=DURATION:PT1H
X-Robots-Tag:noindex
X-PUBLISHED-TTL:PT1H
BEGIN:VTIMEZONE
TZID:Europe/Paris
BEGIN:DAYLIGHT
TZOFFSETFROM:+0100
TZOFFSETTO:+0200
TZNAME:CEST
DTSTART:20240331T010000
END:DAYLIGHT
BEGIN:STANDARD
TZOFFSETFROM:+0200
TZOFFSETTO:+0100
TZNAME:CET
DTSTART:20241027T010000
END:STANDARD
END:VTIMEZONE
BEGIN:VEVENT
DTSTART;TZID=Europe/Paris:20240605T100000
DTEND;TZID=Europe/Paris:20240605T123000
DTSTAMP:20260422T035337
CREATED:20240524T102155Z
LAST-MODIFIED:20240524T102155Z
UID:44560-1717581600-1717590600@lcm-content.web-email.at
SUMMARY:FIWARE Netzwerktreffen: UP we go - wir gestalten Zukunft OFFEN
DESCRIPTION:Freuen Sie sich auf spannende Beiträge aus dem FIWARE Netzwerk\, erfahren Sie mehr über FIWARE 2.0 und entdecken Sie Möglichkeiten zur Teilnahme an aktuellen bi-nationalen Förderprojekten und vieles mehr. \nUnser Transformations-Experte Dr. Johannes Klinglmayr eröffnet bei dieser Veranstaltung Perspektiven zur Wertschöpfung durch Vernetzung. \nAus der Agenda: \n+ Michael Maier (Stadt Wien\, Team Innovation Lab) spricht über IoT @ Stadt Wien / IoT @City of Vienna\n+ Ignacio Garcia (DS4SSCC) präsentiert den Open Call für Pilotprojekte\n+ Andrea Battaglia teilt Einblicke in FIWARE 2.0\n+ Prof. Michael Prange (FH Kiel) & Vera Böhner (FIWARE) diskutieren nachhaltige Mobilität zu Land\, auf Schienen und auf dem Wasser\n+ Johannes Klinglmayr vom Linz Center of Mechatronics eröffnet Perspektiven zur Wertschöpfung durch Vernetzung\n+ Lukas Künzel (msGIS) stellt Smarte Lösungen für Smart Cities: GIS und IoT vereint durch den SuperConnector vor \nShare this information
URL:https://lcm-content.web-email.at/event/fiware-netzwerktreffen-up-we-go-wir-gestalten-zukunft-offen/
LOCATION:Impact Hub Vienna\, Lindengasse\, Wien\, 1070\, Österreich
CATEGORIES:Digitalisierung,Transformation
ATTACH;FMTTYPE=image/png:https://lcm-content.web-email.at/wp-content/uploads/2024/05/FIWARE_DACH_Netzwerktreffen_UP-we-go.png
END:VEVENT
END:VCALENDAR