BEGIN:VCALENDAR
VERSION:2.0
PRODID:-//LCM - ECPv6.10.1.1//NONSGML v1.0//EN
CALSCALE:GREGORIAN
METHOD:PUBLISH
X-ORIGINAL-URL:https://lcm-content.web-email.at
X-WR-CALDESC:Veranstaltungen für LCM
REFRESH-INTERVAL;VALUE=DURATION:PT1H
X-Robots-Tag:noindex
X-PUBLISHED-TTL:PT1H
BEGIN:VTIMEZONE
TZID:Europe/Paris
BEGIN:DAYLIGHT
TZOFFSETFROM:+0100
TZOFFSETTO:+0200
TZNAME:CEST
DTSTART:20240331T010000
END:DAYLIGHT
BEGIN:STANDARD
TZOFFSETFROM:+0200
TZOFFSETTO:+0100
TZNAME:CET
DTSTART:20241027T010000
END:STANDARD
END:VTIMEZONE
BEGIN:VEVENT
DTSTART;TZID=Europe/Paris:20240409T090000
DTEND;TZID=Europe/Paris:20240410T193000
DTSTAMP:20260422T065013
CREATED:20240409T121041Z
LAST-MODIFIED:20240409T121041Z
UID:44037-1712653200-1712777400@lcm-content.web-email.at
SUMMARY:Zukunftsforum Oberösterreich 2024
DESCRIPTION:Innovationen für die Transformation des Industriestandortes \n9. und 10. April 2024\nOberbank Donau-Forum/Lentos Kunstmuseum (Linz) \nWo liegt die Zukunft des Standortes Europa\, der Industrieregion Oberösterreich? In Kreislaufwirtschaft\, um Rohstoffe optimal zu nutzen. In erneuerbarer Energie\, um unabhängiger zu werden. Die Wettbewerbsfähigkeit in dieser Zeit der Transformation wird erhalten und ausgebaut\, indem es uns gelingt\, Nachhaltigkeit als Chance zu nutzen. Der Schlüssel zu Arbeitsplätzen und Wertschöpfung liegt in der Innovationskraft unserer Unternehmen und Forschungseinrichtungen. \nBeim Zukunftsforum Oberösterreich 2024 können sich Teilnehmer:innen Inputs von renommierten Organisationen und Expert:innen holen und arbeiten in interaktiven Formaten gemeinsam an neuen Lösungen. \nMehr Infos\nFotocredit: Business Upper Austria – OÖ Wirtschaftsagentur GmbH \nShare this information
URL:https://lcm-content.web-email.at/event/zukunftsforum-oberoesterreich-2024/
LOCATION:Oberbank Donau-Forum\, Untere Donaulände 28\, Linz\, Oberösterreich\, 4020\, Österreich
ATTACH;FMTTYPE=image/jpeg:https://lcm-content.web-email.at/wp-content/uploads/2024/04/csm_2023-09-19_Sujet_ZF24_b13a3c157d.jpg
END:VEVENT
END:VCALENDAR