BEGIN:VCALENDAR
VERSION:2.0
PRODID:-//LCM - ECPv6.10.1.1//NONSGML v1.0//EN
CALSCALE:GREGORIAN
METHOD:PUBLISH
X-WR-CALNAME:LCM
X-ORIGINAL-URL:https://lcm-content.web-email.at
X-WR-CALDESC:Veranstaltungen für LCM
REFRESH-INTERVAL;VALUE=DURATION:PT1H
X-Robots-Tag:noindex
X-PUBLISHED-TTL:PT1H
BEGIN:VTIMEZONE
TZID:Europe/Paris
BEGIN:DAYLIGHT
TZOFFSETFROM:+0100
TZOFFSETTO:+0200
TZNAME:CEST
DTSTART:20230326T010000
END:DAYLIGHT
BEGIN:STANDARD
TZOFFSETFROM:+0200
TZOFFSETTO:+0100
TZNAME:CET
DTSTART:20231029T010000
END:STANDARD
END:VTIMEZONE
BEGIN:VEVENT
DTSTART;TZID=Europe/Paris:20230202T130000
DTEND;TZID=Europe/Paris:20230202T163000
DTSTAMP:20260423T044514
CREATED:20230116T101427Z
LAST-MODIFIED:20230127T104650Z
UID:35034-1675342800-1675355400@lcm-content.web-email.at
SUMMARY:AUSGEBUCHT! Fehler-Ursachenanalyse im Maschinenbau und in industriellen Prozessen
DESCRIPTION:Das unerwartete Auftreten von Fehlern\, Qualitätsmängeln oder Schadensfällen stellt Unternehmen vor kurzfristige und oft dringliche Herausforderungen. \nIm Rahmen dieser Veranstaltung zeigen die Referenten anhand charakteristischer Beispiele wie Fehler und deren Ursachen auf systematische Weise durch Messungen und Simulation identifiziert\, behoben oder im Vorhinein vermieden werden können. \nDas Veranstaltungsformat bietet ausreichend Raum für Fragen und gemeinsame Diskussion nach Wunsch und Bedarf der Teilnehmer:innen. \nProgramm \n13.00 Uhr  Eintreffen\n13.30 Uhr  Fehler-Ursachenanalyse im Maschinenbau und industriellen Prozessen & Diskussion konkreter Themenstellungen\n15.30 Uhr  Blick in die LCM Labors & Ausklang/Networking  \nReferenten\nDI Dr. Markus Schörgenhumer\nDr. Ing. Peter Kollegger \nKosten\nDie Teilnahme ist kostenlos – eine Anmeldung jedoch erforderlich!  \nAnmeldung\nDie Anmeldung wurde geschlossen\, da die maximale TN-Zahl erreicht wurde.\nFalls Sie Interesse an einer weiteren Veranstaltung zum Thema „Systematische Fehler-Ursachenanalyse im Maschinenbau“ haben\, wenden Sie sich bitte an Manfred Reiter (manfred.reiter@lcm.at). \nVeranstaltungsort\nLCM – Linz Center of Mechatronics GmbH\nScience Park I\nAltenberger Straße 66\n4040 Linz \nModeration\nElmar Paireder (Business Upper Austria\, Mechatronik-Cluster) \nWir freuen uns auf Ihre Teilnahme! \nShare this information
URL:https://lcm-content.web-email.at/event/fehler-ursachenanalyse-im-maschinenbau-und-in-industriellen-prozessen/
LOCATION:Linz Center of Mechatronics GmbH\, Altenberger Straße 66\, Linz\, Oberösterreich\, 4040\, Österreich
CATEGORIES:Produktion,Simulation
ATTACH;FMTTYPE=image/png:https://lcm-content.web-email.at/wp-content/uploads/2023/01/Bild_Systematische_Fehlerursachenanalyse_Auslegung_Prozessoptimierung_Shutterstock.png
END:VEVENT
END:VCALENDAR