BEGIN:VCALENDAR
VERSION:2.0
PRODID:-//LCM - ECPv6.10.1.1//NONSGML v1.0//EN
CALSCALE:GREGORIAN
METHOD:PUBLISH
X-ORIGINAL-URL:https://lcm-content.web-email.at
X-WR-CALDESC:Veranstaltungen für LCM
REFRESH-INTERVAL;VALUE=DURATION:PT1H
X-Robots-Tag:noindex
X-PUBLISHED-TTL:PT1H
BEGIN:VTIMEZONE
TZID:Europe/Paris
BEGIN:DAYLIGHT
TZOFFSETFROM:+0100
TZOFFSETTO:+0200
TZNAME:CEST
DTSTART:20220327T010000
END:DAYLIGHT
BEGIN:STANDARD
TZOFFSETFROM:+0200
TZOFFSETTO:+0100
TZNAME:CET
DTSTART:20221030T010000
END:STANDARD
END:VTIMEZONE
BEGIN:VEVENT
DTSTART;VALUE=DATE:20220914
DTEND;VALUE=DATE:20220916
DTSTAMP:20260423T123037
CREATED:20220825T150237Z
LAST-MODIFIED:20220825T150358Z
UID:31518-1663113600-1663286399@lcm-content.web-email.at
SUMMARY:IKMT 2022 Linz
DESCRIPTION:Innovative Kleinantriebs-und Kleinmotorentechnik IKMT 2022 \nShare this information
URL:https://lcm-content.web-email.at/event/ikmt-2022-linz/
LOCATION:JKU Linz\, Altenberger Straße 69\, Linz\, 4040
ATTACH;FMTTYPE=image/jpeg:https://lcm-content.web-email.at/wp-content/uploads/2022/08/IKMT2022_Beitragsbild-scaled.jpg
END:VEVENT
END:VCALENDAR