BEGIN:VCALENDAR
VERSION:2.0
PRODID:-//LCM - ECPv6.10.1.1//NONSGML v1.0//EN
CALSCALE:GREGORIAN
METHOD:PUBLISH
X-ORIGINAL-URL:https://lcm-content.web-email.at
X-WR-CALDESC:Veranstaltungen für LCM
REFRESH-INTERVAL;VALUE=DURATION:PT1H
X-Robots-Tag:noindex
X-PUBLISHED-TTL:PT1H
BEGIN:VTIMEZONE
TZID:Europe/Paris
BEGIN:DAYLIGHT
TZOFFSETFROM:+0100
TZOFFSETTO:+0200
TZNAME:CEST
DTSTART:20220327T010000
END:DAYLIGHT
BEGIN:STANDARD
TZOFFSETFROM:+0200
TZOFFSETTO:+0100
TZNAME:CET
DTSTART:20221030T010000
END:STANDARD
END:VTIMEZONE
BEGIN:VEVENT
DTSTART;TZID=Europe/Paris:20220520T170000
DTEND;TZID=Europe/Paris:20220520T230000
DTSTAMP:20260423T184141
CREATED:20220314T125041Z
LAST-MODIFIED:20220517T070907Z
UID:30090-1653066000-1653087600@lcm-content.web-email.at
SUMMARY:LNF22 - Lange Nacht der Forschung 2022
DESCRIPTION:Share this information
URL:https://lcm-content.web-email.at/event/lnf22-lange-nacht-der-forschung-2022/
LOCATION:Linz Center of Mechatronics GmbH\, Altenberger Straße 66\, Linz\, Oberösterreich\, 4040\, Österreich
ATTACH;FMTTYPE=image/jpeg:https://lcm-content.web-email.at/wp-content/uploads/2022/03/LNF22_headerbild-1200x630-1.jpg
END:VEVENT
END:VCALENDAR