BEGIN:VCALENDAR
VERSION:2.0
PRODID:-//LCM - ECPv6.10.1.1//NONSGML v1.0//EN
CALSCALE:GREGORIAN
METHOD:PUBLISH
X-WR-CALNAME:LCM
X-ORIGINAL-URL:https://lcm-content.web-email.at
X-WR-CALDESC:Veranstaltungen für LCM
REFRESH-INTERVAL;VALUE=DURATION:PT1H
X-Robots-Tag:noindex
X-PUBLISHED-TTL:PT1H
BEGIN:VTIMEZONE
TZID:Europe/Paris
BEGIN:DAYLIGHT
TZOFFSETFROM:+0100
TZOFFSETTO:+0200
TZNAME:CEST
DTSTART:20220327T010000
END:DAYLIGHT
BEGIN:STANDARD
TZOFFSETFROM:+0200
TZOFFSETTO:+0100
TZNAME:CET
DTSTART:20221030T010000
END:STANDARD
END:VTIMEZONE
BEGIN:VEVENT
DTSTART;TZID=Europe/Paris:20220504T090000
DTEND;TZID=Europe/Paris:20220504T150000
DTSTAMP:20260423T183911
CREATED:20220408T081536Z
LAST-MODIFIED:20220408T081536Z
UID:30745-1651654800-1651676400@lcm-content.web-email.at
SUMMARY:Workshop: Virtuelle Inbetriebnahme und Model-Based Design
DESCRIPTION:Share this information
URL:https://lcm-content.web-email.at/event/workshop-virtuelle-inbetriebnahme-und-model-based-design/
LOCATION:JKU Linz\, Altenberger Straße 69\, Linz\, 4040
END:VEVENT
END:VCALENDAR