BEGIN:VCALENDAR
VERSION:2.0
PRODID:-//LCM - ECPv6.10.1.1//NONSGML v1.0//EN
CALSCALE:GREGORIAN
METHOD:PUBLISH
X-ORIGINAL-URL:https://lcm-content.web-email.at
X-WR-CALDESC:Veranstaltungen für LCM
REFRESH-INTERVAL;VALUE=DURATION:PT1H
X-Robots-Tag:noindex
X-PUBLISHED-TTL:PT1H
BEGIN:VTIMEZONE
TZID:Europe/Paris
BEGIN:DAYLIGHT
TZOFFSETFROM:+0100
TZOFFSETTO:+0200
TZNAME:CEST
DTSTART:20220327T010000
END:DAYLIGHT
BEGIN:STANDARD
TZOFFSETFROM:+0200
TZOFFSETTO:+0100
TZNAME:CET
DTSTART:20221030T010000
END:STANDARD
END:VTIMEZONE
BEGIN:VEVENT
DTSTART;TZID=Europe/Paris:20220330T093000
DTEND;TZID=Europe/Paris:20220330T160000
DTSTAMP:20260423T201759
CREATED:20220328T091715Z
LAST-MODIFIED:20220328T091922Z
UID:30414-1648632600-1648656000@lcm-content.web-email.at
SUMMARY:JKU Karrieremesse
DESCRIPTION:Share this information
URL:https://lcm-content.web-email.at/event/jku-karrieremesse/
LOCATION:Niederösterreich
END:VEVENT
END:VCALENDAR