BEGIN:VCALENDAR
VERSION:2.0
PRODID:-//LCM - ECPv6.10.1.1//NONSGML v1.0//EN
CALSCALE:GREGORIAN
METHOD:PUBLISH
X-ORIGINAL-URL:https://lcm-content.web-email.at
X-WR-CALDESC:Veranstaltungen für LCM
REFRESH-INTERVAL;VALUE=DURATION:PT1H
X-Robots-Tag:noindex
X-PUBLISHED-TTL:PT1H
BEGIN:VTIMEZONE
TZID:Europe/Paris
BEGIN:DAYLIGHT
TZOFFSETFROM:+0100
TZOFFSETTO:+0200
TZNAME:CEST
DTSTART:20210328T010000
END:DAYLIGHT
BEGIN:STANDARD
TZOFFSETFROM:+0200
TZOFFSETTO:+0100
TZNAME:CET
DTSTART:20211031T010000
END:STANDARD
END:VTIMEZONE
BEGIN:VEVENT
DTSTART;VALUE=DATE:20211020
DTEND;VALUE=DATE:20211022
DTSTAMP:20260424T045800
CREATED:20210922T140600Z
LAST-MODIFIED:20210922T140600Z
UID:26795-1634688000-1634860799@lcm-content.web-email.at
SUMMARY:Internationales Forum Mechatronik 2021
DESCRIPTION:Share this information
URL:https://lcm-content.web-email.at/event/internationales-forum-mechatronik-2021/
LOCATION:JKU Linz\, Altenberger Straße 69\, Linz\, 4040
END:VEVENT
END:VCALENDAR