BEGIN:VCALENDAR
VERSION:2.0
PRODID:-//LCM - ECPv6.10.1.1//NONSGML v1.0//EN
CALSCALE:GREGORIAN
METHOD:PUBLISH
X-WR-CALNAME:LCM
X-ORIGINAL-URL:https://lcm-content.web-email.at
X-WR-CALDESC:Veranstaltungen für LCM
REFRESH-INTERVAL;VALUE=DURATION:PT1H
X-Robots-Tag:noindex
X-PUBLISHED-TTL:PT1H
BEGIN:VTIMEZONE
TZID:Europe/Paris
BEGIN:DAYLIGHT
TZOFFSETFROM:+0100
TZOFFSETTO:+0200
TZNAME:CEST
DTSTART:20210328T010000
END:DAYLIGHT
BEGIN:STANDARD
TZOFFSETFROM:+0200
TZOFFSETTO:+0100
TZNAME:CET
DTSTART:20211031T010000
END:STANDARD
END:VTIMEZONE
BEGIN:VEVENT
DTSTART;VALUE=DATE:20211012
DTEND;VALUE=DATE:20211015
DTSTAMP:20260424T045629
CREATED:20210719T073857Z
LAST-MODIFIED:20210719T073857Z
UID:25311-1633996800-1634255999@lcm-content.web-email.at
SUMMARY:Mechatronik Summer School
DESCRIPTION:Der digitale Zwilling von der Produktentwicklung bis zur Instandhaltung \nShare this information
URL:https://lcm-content.web-email.at/event/mechatronik-summer-school/
LOCATION:DLR Oberpfaffenhofen\, Weßling
CATEGORIES:Digitalisierung,Simulation,VIBN
END:VEVENT
END:VCALENDAR