BEGIN:VCALENDAR
VERSION:2.0
PRODID:-//LCM - ECPv6.10.1.1//NONSGML v1.0//EN
CALSCALE:GREGORIAN
METHOD:PUBLISH
X-WR-CALNAME:LCM
X-ORIGINAL-URL:https://lcm-content.web-email.at
X-WR-CALDESC:Veranstaltungen für LCM
REFRESH-INTERVAL;VALUE=DURATION:PT1H
X-Robots-Tag:noindex
X-PUBLISHED-TTL:PT1H
BEGIN:VTIMEZONE
TZID:Europe/Paris
BEGIN:DAYLIGHT
TZOFFSETFROM:+0100
TZOFFSETTO:+0200
TZNAME:CEST
DTSTART:20210328T010000
END:DAYLIGHT
BEGIN:STANDARD
TZOFFSETFROM:+0200
TZOFFSETTO:+0100
TZNAME:CET
DTSTART:20211031T010000
END:STANDARD
END:VTIMEZONE
BEGIN:VEVENT
DTSTART;TZID=Europe/Paris:20210420T090000
DTEND;TZID=Europe/Paris:20210420T103000
DTSTAMP:20260424T125753
CREATED:20210408T072527Z
LAST-MODIFIED:20210408T072527Z
UID:23679-1618909200-1618914600@lcm-content.web-email.at
SUMMARY:Aktuelle Kommunikations-Technologietrends (5G\, TSN\, SPE\, APL)
DESCRIPTION:Die Referenten von Phoenix Contact\, DI Jörg Brasas (Strategic Product Marketing Communication Interface) und DI Uwe Nolte (Product Marketing Network Technology) haben folgende Themen im Fokus: \n\nIm Zuge der Digitalisierung und Industrie 4.0 bzw. IoT\, werden immer mehr Geräte in die Industrie Netzwerke integriert.\nUm die dabei entstehenden Datenmengen verarbeiten und in kritischen Echtzeitanwendungen verwenden zu können\, sind neue Technologien wie 5G\, TSN (Time Sensitive Network)\, SPE (Single Pair Ethernet) erforderlich. Diese neuen Kommunikationsstandards werden den bestehenden in Bezug auf Kosten\, Datentransport\, Latenz und Determinismus überlegen sein\, sollten jedoch nicht unabhängig davon betrachtet werden\, da sie zusammen die Kommunikation der Zukunft bilden.\n\nDI Dr. Leander Hörmann (Team Leader Industrial IoT) wird das Thema „Wireless Communication Technologies for Industrial IoT Applications“ in diesem Webinar behandeln: \n\nModerne Kommunikationstechnologien im industriellen IoT-Umfeld (Vergleich von Cellular [5G/4G]\, LoRa\, LTE-M\, NB-IoT\, WiFi\, BLE\, NFC)\nUltra-Low-Power und Energy Harvesting als Schlüsseltechnologien für kostengünstige und wartungsarme Sensoranwendungen\nausgewählte Use-Cases\n\nShare this information
URL:https://lcm-content.web-email.at/event/aktuelle-kommunikations-technologietrends-5g-tsn-spe-apl/
LOCATION:MS Teams
END:VEVENT
END:VCALENDAR