BEGIN:VCALENDAR
VERSION:2.0
PRODID:-//LCM - ECPv6.10.1.1//NONSGML v1.0//EN
CALSCALE:GREGORIAN
METHOD:PUBLISH
X-WR-CALNAME:LCM
X-ORIGINAL-URL:https://lcm-content.web-email.at
X-WR-CALDESC:Veranstaltungen für LCM
REFRESH-INTERVAL;VALUE=DURATION:PT1H
X-Robots-Tag:noindex
X-PUBLISHED-TTL:PT1H
BEGIN:VTIMEZONE
TZID:Europe/Paris
BEGIN:DAYLIGHT
TZOFFSETFROM:+0100
TZOFFSETTO:+0200
TZNAME:CEST
DTSTART:20200329T010000
END:DAYLIGHT
BEGIN:STANDARD
TZOFFSETFROM:+0200
TZOFFSETTO:+0100
TZNAME:CET
DTSTART:20201025T010000
END:STANDARD
END:VTIMEZONE
BEGIN:VEVENT
DTSTART;VALUE=DATE:20201208
DTEND;VALUE=DATE:20201210
DTSTAMP:20260424T185423
CREATED:20201120T084616Z
LAST-MODIFIED:20201120T084616Z
UID:20948-1607385600-1607558399@lcm-content.web-email.at
SUMMARY:Electric Drives Production Conference (E|DPC) 2020
DESCRIPTION:Share this information
URL:https://lcm-content.web-email.at/event/electric-drives-production-conference-edpc-2020/
LOCATION:virtuell
CATEGORIES:Forum
END:VEVENT
END:VCALENDAR