BEGIN:VCALENDAR
VERSION:2.0
PRODID:-//LCM - ECPv6.10.1.1//NONSGML v1.0//EN
CALSCALE:GREGORIAN
METHOD:PUBLISH
X-WR-CALNAME:LCM
X-ORIGINAL-URL:https://lcm-content.web-email.at/en/
X-WR-CALDESC:Events for LCM
REFRESH-INTERVAL;VALUE=DURATION:PT1H
X-Robots-Tag:noindex
X-PUBLISHED-TTL:PT1H
BEGIN:VTIMEZONE
TZID:Europe/Paris
BEGIN:DAYLIGHT
TZOFFSETFROM:+0100
TZOFFSETTO:+0200
TZNAME:CEST
DTSTART:20200329T010000
END:DAYLIGHT
BEGIN:STANDARD
TZOFFSETFROM:+0200
TZOFFSETTO:+0100
TZNAME:CET
DTSTART:20201025T010000
END:STANDARD
END:VTIMEZONE
BEGIN:VEVENT
DTSTART;VALUE=DATE:20200915
DTEND;VALUE=DATE:20200920
DTSTAMP:20260424T194728
CREATED:20200310T121831Z
LAST-MODIFIED:20200310T121831Z
UID:19053-1600128000-1600559999@lcm-content.web-email.at
SUMMARY:AMB Leitmesse Metallverarbeitung
DESCRIPTION:Share this information
URL:https://lcm-content.web-email.at/en/event/amb-leitmesse-metallverarbeitung/
LOCATION:Messe Stuttgart
END:VEVENT
BEGIN:VEVENT
DTSTART;TZID=Europe/Paris:20200922T090000
DTEND;TZID=Europe/Paris:20200922T123000
DTSTAMP:20260424T194728
CREATED:20200916T073016Z
LAST-MODIFIED:20200916T073019Z
UID:20376-1600765200-1600777800@lcm-content.web-email.at
SUMMARY:K2 Partner Day
DESCRIPTION:Share this information
URL:https://lcm-content.web-email.at/en/event/k2-partner-day/
LOCATION:virtuell
END:VEVENT
END:VCALENDAR