BEGIN:VCALENDAR
VERSION:2.0
PRODID:-//LCM - ECPv6.10.1.1//NONSGML v1.0//EN
CALSCALE:GREGORIAN
METHOD:PUBLISH
X-WR-CALNAME:LCM
X-ORIGINAL-URL:https://lcm-content.web-email.at/en/
X-WR-CALDESC:Events for LCM
REFRESH-INTERVAL;VALUE=DURATION:PT1H
X-Robots-Tag:noindex
X-PUBLISHED-TTL:PT1H
BEGIN:VTIMEZONE
TZID:Europe/Paris
BEGIN:DAYLIGHT
TZOFFSETFROM:+0100
TZOFFSETTO:+0200
TZNAME:CEST
DTSTART:20210328T010000
END:DAYLIGHT
BEGIN:STANDARD
TZOFFSETFROM:+0200
TZOFFSETTO:+0100
TZNAME:CET
DTSTART:20211031T010000
END:STANDARD
END:VTIMEZONE
BEGIN:VEVENT
DTSTART;TZID=Europe/Paris:20210420T090000
DTEND;TZID=Europe/Paris:20210420T103000
DTSTAMP:20260425T134118
CREATED:20210409T075821Z
LAST-MODIFIED:20210409T101527Z
UID:23713-1618909200-1618914600@lcm-content.web-email.at
SUMMARY:Current communication technology trends (5G\, TSN\, SPE\, APL)
DESCRIPTION:The speakers from Phoenix Contact\, DI Jörg Brasas (Strategic Product Marketing Communication Interface) and DI Uwe Nolte (Product Marketing Network Technology) focus on the following topics: \n\nAs part of digitization and Industry 4.0 or IoT\, more and more devices are being integrated into industrial networks.\n\nNew technologies such as 5G\, TSN (Time Sensitive Network)\, SPE (Single Pair Ethernet) are required to process the resulting data volumes and use them in critical real-time applications. These new communication standards will be superior to the existing ones in terms of cost\, data transport\, latency and determinism. They should not be viewed separately\, because together they form the communication of the future. \n\n\nDI Dr. Leander Hörmann (Team Leader Industrial IoT\, LCM) will deal with the topic “Wireless Communication Technologies for Industrial IoT Applications” in this webinar: \n\n\nModern communication technologies in the Industrial IoT environment (comparison of Cellular [5G / 4G]\, LoRa\, LTE-M\, NB-IoT\, WiFi\, BLE\, NFC) \n\n\nUltra-low-power and energy harvesting as key technologies for cost-effective and low-maintenance sensor applications  \n\n\nSelected use cases \n\n\nShare this information
URL:https://lcm-content.web-email.at/en/event/current-communication-technology-trends-5g-tsn-spe-apl/
LOCATION:MS Teams
END:VEVENT
BEGIN:VEVENT
DTSTART;TZID=Europe/Paris:20210428T100000
DTEND;TZID=Europe/Paris:20210428T130000
DTSTAMP:20260425T134118
CREATED:20210409T080722Z
LAST-MODIFIED:20210409T080756Z
UID:23717-1619604000-1619614800@lcm-content.web-email.at
SUMMARY:Digitalization in materials science and engineering technology
DESCRIPTION:Share this information
URL:https://lcm-content.web-email.at/en/event/digitalization-in-material-materials-science-and-engineering-technology/
LOCATION:MS Teams
CATEGORIES:Digitalisierung
END:VEVENT
BEGIN:VEVENT
DTSTART;VALUE=DATE:20210803
DTEND;VALUE=DATE:20210805
DTSTAMP:20260425T134118
CREATED:20210409T080938Z
LAST-MODIFIED:20210409T080938Z
UID:23720-1627948800-1628121599@lcm-content.web-email.at
SUMMARY:Industry forum digital medium-sized companies 2021
DESCRIPTION:Share this information
URL:https://lcm-content.web-email.at/en/event/industry-forum-digital-medium-sized-companies-2021/
LOCATION:ICS Internationales Congresscenter Stuttgart\, Deutschland
END:VEVENT
END:VCALENDAR